BEGIN:VCALENDAR
VERSION:2.0
PRODID:-//American Marketing Association - Central Pennsylvania Chapter - ECPv6.15.20//NONSGML v1.0//EN
CALSCALE:GREGORIAN
METHOD:PUBLISH
X-WR-CALNAME:American Marketing Association - Central Pennsylvania Chapter
X-ORIGINAL-URL:https://amacentralpa.com
X-WR-CALDESC:Events for American Marketing Association - Central Pennsylvania Chapter
REFRESH-INTERVAL;VALUE=DURATION:PT1H
X-Robots-Tag:noindex
X-PUBLISHED-TTL:PT1H
BEGIN:VTIMEZONE
TZID:UTC
BEGIN:STANDARD
TZOFFSETFROM:+0000
TZOFFSETTO:+0000
TZNAME:UTC
DTSTART:20240101T000000
END:STANDARD
END:VTIMEZONE
BEGIN:VEVENT
DTSTART;TZID=UTC:20250724T080000
DTEND;TZID=UTC:20250724T100000
DTSTAMP:20260425T035011
CREATED:20250624T015016Z
LAST-MODIFIED:20250624T015050Z
UID:100001074-1753344000-1753351200@amacentralpa.com
SUMMARY:Marketing Meet-Up
DESCRIPTION:Join the Central PA Chapter of the American Marketing Association for our next Marketing Meet-Up on Thursday\, July 24 at Elementary Coffee in the Broad Street Market. \nThis relaxed\, informal gathering is open to all marketing professionals\, students and enthusiasts\, including AMA members and non-members. \nCome prepared to share ideas\, gain fresh insights and network with local industry experts and peers. Whether you’re looking to brainstorm new advertising concepts\, explore communications strategies or connect with fellow marketers\, this event is the perfect opportunity to expand your knowledge and professional circle. \nRegister for this event by visiting Eventbrite. \nWe look forward to seeing you there!
URL:https://amacentralpa.com/event/marketing-meet-up-elementary-coffee-july-2025/
LOCATION:Broad Street Market\, 1233 North 3rd Street\, Harrisburg\, PA\, 17102\, United States
CATEGORIES:Marketing Meet-Ups
ATTACH;FMTTYPE=image/png:https://amacentralpa.com/wp-content/uploads/2025/06/Marketing-Meet-Up-AMA-July-2025-1920-x-1080-px.png
ORGANIZER;CN="American Marketing Association Central PA Chapter":MAILTO:amacentralpa@gmail.com
END:VEVENT
END:VCALENDAR