BEGIN:VCALENDAR
VERSION:2.0
PRODID:-//American Marketing Association - Central Pennsylvania Chapter - ECPv6.15.20//NONSGML v1.0//EN
CALSCALE:GREGORIAN
METHOD:PUBLISH
X-WR-CALNAME:American Marketing Association - Central Pennsylvania Chapter
X-ORIGINAL-URL:https://amacentralpa.com
X-WR-CALDESC:Events for American Marketing Association - Central Pennsylvania Chapter
REFRESH-INTERVAL;VALUE=DURATION:PT1H
X-Robots-Tag:noindex
X-PUBLISHED-TTL:PT1H
BEGIN:VTIMEZONE
TZID:UTC
BEGIN:STANDARD
TZOFFSETFROM:+0000
TZOFFSETTO:+0000
TZNAME:UTC
DTSTART:20240101T000000
END:STANDARD
END:VTIMEZONE
BEGIN:VEVENT
DTSTART;TZID=UTC:20251106T080000
DTEND;TZID=UTC:20251106T100000
DTSTAMP:20260424T221100
CREATED:20250922T155436Z
LAST-MODIFIED:20250922T155436Z
UID:100001110-1762416000-1762423200@amacentralpa.com
SUMMARY:Marketing Meet-Up
DESCRIPTION:Join the Central PA Chapter of the American Marketing Association for our next Marketing Meet-Up on Thursday\, Nov. 6\, at Belmont Bean Co. \nThis relaxed\, informal gathering is open to all marketing professionals\, students and enthusiasts\, including AMA members and non-members. \nCome ready to share ideas\, gain fresh insights and network with local industry experts and peers. Whether you want to brainstorm new campaigns\, explore communications strategies or simply connect with fellow marketers\, this event is the perfect opportunity to expand your knowledge and professional circle. \nWe look forward to seeing you there! \nRegister on Eventbrite.
URL:https://amacentralpa.com/event/marketing-meet-up-3/
LOCATION:Belmont Bean Co.\, 18 South Belmont Street\, York\, PA\, 17403\, United States
CATEGORIES:Marketing Meet-Ups
ATTACH;FMTTYPE=image/png:https://amacentralpa.com/wp-content/uploads/2025/09/Marketing-Meet-Up-AMA-Nov-2025.png
ORGANIZER;CN="American Marketing Association Central PA Chapter":MAILTO:amacentralpa@gmail.com
END:VEVENT
BEGIN:VEVENT
DTSTART;TZID=UTC:20251112T173000
DTEND;TZID=UTC:20251112T200000
DTSTAMP:20260424T221100
CREATED:20251007T013435Z
LAST-MODIFIED:20251007T013435Z
UID:100001117-1762968600-1762977600@amacentralpa.com
SUMMARY:6 Degrees: The Mentor–Mentee Networking Experience
DESCRIPTION:6 Degrees: The Mentor–Mentee Networking Experience Returns! \nWe’re thrilled to announce the return of 6 Degrees\, presented by the AMA of Central PA\, a signature event designed to foster intentional\, meaningful mentorship connections between emerging and established professionals. \n💬 What to Expect:\nStructured speed networking\, genuine conversations\, and opportunities for career-changing connections. \n📅 Date: November 12\, 2025\n📍 Location: Members 1st Corporate Office – 5000 Marketplace Way\, Enola\, PA 17025 \n🎥 Watch the announcement video. \nWhether you’re a student\, recent grad\, or young professional\, this event is your chance to engage in conversations that matter. \nMentor positions are still available. Please email Heather Tidwell at htidwell@wearelcf.org to learn more. \nWe look forward to bringing back a Central PA favorite event! \nMentees\, visit Eventbrite to register.
URL:https://amacentralpa.com/event/6-degrees-the-mentor-mentee-networking-experience/
LOCATION:Members 1st Corporate Office\, 5000 Marketplace Way\, Enola\, PA\, 17025\, United States
CATEGORIES:6 Degrees
ATTACH;FMTTYPE=image/png:https://amacentralpa.com/wp-content/uploads/2025/10/Six-Degrees-Mentor-Mentee-Launch-Nov-2025.png
ORGANIZER;CN="American Marketing Association Central PA Chapter":MAILTO:amacentralpa@gmail.com
END:VEVENT
END:VCALENDAR