BEGIN:VCALENDAR
VERSION:2.0
PRODID:-//American Marketing Association - Central Pennsylvania Chapter - ECPv6.15.20//NONSGML v1.0//EN
CALSCALE:GREGORIAN
METHOD:PUBLISH
X-WR-CALNAME:American Marketing Association - Central Pennsylvania Chapter
X-ORIGINAL-URL:https://amacentralpa.com
X-WR-CALDESC:Events for American Marketing Association - Central Pennsylvania Chapter
REFRESH-INTERVAL;VALUE=DURATION:PT1H
X-Robots-Tag:noindex
X-PUBLISHED-TTL:PT1H
BEGIN:VTIMEZONE
TZID:UTC
BEGIN:STANDARD
TZOFFSETFROM:+0000
TZOFFSETTO:+0000
TZNAME:UTC
DTSTART:20250101T000000
END:STANDARD
END:VTIMEZONE
BEGIN:VEVENT
DTSTART;TZID=UTC:20260219T083000
DTEND;TZID=UTC:20260219T100000
DTSTAMP:20260424T180154
CREATED:20260202T015745Z
LAST-MODIFIED:20260202T015923Z
UID:100001174-1771489800-1771495200@amacentralpa.com
SUMMARY:Marketing Meet Up
DESCRIPTION:Start your day with the Central PA AMA on Feb. 19 at Restless Coffee. Network with local marketers\, exchange insights and build connections.\n\n\n\n\nJoin the Central PA Chapter of the American Marketing Association for our next Marketing Meet-Up on Thursday\, Feb. 19\, at Restless Coffee Company. \nThis relaxed\, informal gathering is open to all marketing professionals\, students and enthusiasts\, including AMA members and non-members. \nCome ready to share ideas\, gain fresh insights and network with local industry experts and peers. Whether you want to brainstorm new campaigns\, explore communications strategies or simply connect with fellow marketers\, this event is the perfect opportunity to expand your knowledge and professional circle. \nRegister for the event on Eventbrite. \nWe look forward to seeing you there!
URL:https://amacentralpa.com/event/marketing-meet-up-york-feb-2026/
LOCATION:Restless Coffee Company\, 2599 South Queen Street\, York\, PA\, 17402\, United States
CATEGORIES:Marketing Meet-Ups
ATTACH;FMTTYPE=image/png:https://amacentralpa.com/wp-content/uploads/2026/02/Marketing-Meet-Up-AMA-Feb-2026.png
ORGANIZER;CN="American Marketing Association Central PA Chapter":MAILTO:amacentralpa@gmail.com
END:VEVENT
BEGIN:VEVENT
DTSTART;TZID=UTC:20260223T163000
DTEND;TZID=UTC:20260223T183000
DTSTAMP:20260424T180154
CREATED:20260113T014226Z
LAST-MODIFIED:20260113T014226Z
UID:100001167-1771864200-1771871400@amacentralpa.com
SUMMARY:Marketing Networking Mixer 2026
DESCRIPTION:Join the John L. Grove College of Business at Shippensburg University\, the American Marketing Association (AMA) of Central PA\, and the student Chapter of the AMA at Shippensburg University for free food and the chance to network with employers looking for interns and employees. \nEnjoy the opportunity to meet local marketing professionals and students from around the region! \nThis event is open to Shippensburg University students and staff\, non-Shippensburg University faculty or staff\, employers\, Marketing Advisory Council members and AMA Central PA members. \nPlease visit Ship.edu to register.
URL:https://amacentralpa.com/event/marketing-networking-mixer-2026/
LOCATION:Stewart Hall at Shippensburg University\, 1871 Old Main Dr\, Shippensburg\, PA\, 17257\, United States
CATEGORIES:Industry Mixer,Marketing Meet-Ups
ATTACH;FMTTYPE=image/png:https://amacentralpa.com/wp-content/uploads/2026/01/Shippensburg-Annual-Marketing-and-Networking-Social-Feb-2026.png
ORGANIZER;CN="American Marketing Association Central PA Chapter":MAILTO:amacentralpa@gmail.com
END:VEVENT
END:VCALENDAR