BEGIN:VCALENDAR
VERSION:2.0
PRODID:-//American Marketing Association - Central Pennsylvania Chapter - ECPv6.15.20//NONSGML v1.0//EN
CALSCALE:GREGORIAN
METHOD:PUBLISH
X-ORIGINAL-URL:https://amacentralpa.com
X-WR-CALDESC:Events for American Marketing Association - Central Pennsylvania Chapter
REFRESH-INTERVAL;VALUE=DURATION:PT1H
X-Robots-Tag:noindex
X-PUBLISHED-TTL:PT1H
BEGIN:VTIMEZONE
TZID:UTC
BEGIN:STANDARD
TZOFFSETFROM:+0000
TZOFFSETTO:+0000
TZNAME:UTC
DTSTART:20250101T000000
END:STANDARD
END:VTIMEZONE
BEGIN:VEVENT
DTSTART;TZID=UTC:20260408T170000
DTEND;TZID=UTC:20260408T200000
DTSTAMP:20260424T165303
CREATED:20260318T014658Z
LAST-MODIFIED:20260318T015044Z
UID:100001210-1775667600-1775678400@amacentralpa.com
SUMMARY:Marketing Meet Up at Fox Den
DESCRIPTION:Join AMA Central PA for a fun and relaxed evening of networking at Fox Den Indoor Golf in Lancaster. \nThis Marketing Meet Up is designed to bring marketers\, communicators and business professionals together in a casual setting where conversation comes easy. Whether you want to make new connections\, catch up with colleagues or introduce someone to AMA\, this event offers a fresh way to engage with the local marketing community. \nHosted at Fox Den Indoor Golf\, the event will give attendees a chance to experience the venue’s golf simulator environment while enjoying time with fellow professionals. Fox Den is located at 515 Harrisburg Avenue in Lancaster and features Trackman simulator technology in a social indoor setting. \nGuests will also enjoy a private bourbon tasting experience led by Talk Bourbons to Me. \nWhether you’re a seasoned aficionado or simply curious to learn more\, Jamie’s bourbon tasting promises an evening of discovery and enjoyment. Each tasting is carefully curated and features a selection of handpicked bourbons that highlight the history and range of flavors found in this iconic American spirit. \nDuring the experience\, participants will be guided through each pour while learning about the distinct characteristics and subtle differences that make each bourbon unique. Jamie combines engaging storytelling with expert knowledge to create an atmosphere that is both educational and entertaining. Guests will leave with a deeper appreciation for bourbon and its place in American history\, including insights into topics such as the Bottled-in-Bond Act\, Prohibition and more. \nSpace is limited\, and registration is encouraged in advance. \nRegister on Eventbrite.
URL:https://amacentralpa.com/event/marketing-meet-up-at-fox-den/
LOCATION:Fox Den Indoor Golf\, 515 Harrisburg Ave\, Lancaster\, PA\, 17603\, United States
CATEGORIES:Marketing Meet-Ups
ATTACH;FMTTYPE=image/png:https://amacentralpa.com/wp-content/uploads/2026/03/Marketing-Meet-Up-AMA-April-2026.png
ORGANIZER;CN="American Marketing Association Central PA Chapter":MAILTO:amacentralpa@gmail.com
END:VEVENT
END:VCALENDAR