BEGIN:VCALENDAR
VERSION:2.0
PRODID:-//American Marketing Association - Central Pennsylvania Chapter - ECPv6.15.20//NONSGML v1.0//EN
CALSCALE:GREGORIAN
METHOD:PUBLISH
X-WR-CALNAME:American Marketing Association - Central Pennsylvania Chapter
X-ORIGINAL-URL:https://amacentralpa.com
X-WR-CALDESC:Events for American Marketing Association - Central Pennsylvania Chapter
REFRESH-INTERVAL;VALUE=DURATION:PT1H
X-Robots-Tag:noindex
X-PUBLISHED-TTL:PT1H
BEGIN:VTIMEZONE
TZID:UTC
BEGIN:STANDARD
TZOFFSETFROM:+0000
TZOFFSETTO:+0000
TZNAME:UTC
DTSTART:20250101T000000
END:STANDARD
END:VTIMEZONE
BEGIN:VEVENT
DTSTART;TZID=UTC:20260408T170000
DTEND;TZID=UTC:20260408T200000
DTSTAMP:20260425T152926
CREATED:20260318T014658Z
LAST-MODIFIED:20260318T015044Z
UID:100001210-1775667600-1775678400@amacentralpa.com
SUMMARY:Marketing Meet Up at Fox Den
DESCRIPTION:Join AMA Central PA for a fun and relaxed evening of networking at Fox Den Indoor Golf in Lancaster. \nThis Marketing Meet Up is designed to bring marketers\, communicators and business professionals together in a casual setting where conversation comes easy. Whether you want to make new connections\, catch up with colleagues or introduce someone to AMA\, this event offers a fresh way to engage with the local marketing community. \nHosted at Fox Den Indoor Golf\, the event will give attendees a chance to experience the venue’s golf simulator environment while enjoying time with fellow professionals. Fox Den is located at 515 Harrisburg Avenue in Lancaster and features Trackman simulator technology in a social indoor setting. \nGuests will also enjoy a private bourbon tasting experience led by Talk Bourbons to Me. \nWhether you’re a seasoned aficionado or simply curious to learn more\, Jamie’s bourbon tasting promises an evening of discovery and enjoyment. Each tasting is carefully curated and features a selection of handpicked bourbons that highlight the history and range of flavors found in this iconic American spirit. \nDuring the experience\, participants will be guided through each pour while learning about the distinct characteristics and subtle differences that make each bourbon unique. Jamie combines engaging storytelling with expert knowledge to create an atmosphere that is both educational and entertaining. Guests will leave with a deeper appreciation for bourbon and its place in American history\, including insights into topics such as the Bottled-in-Bond Act\, Prohibition and more. \nSpace is limited\, and registration is encouraged in advance. \nRegister on Eventbrite.
URL:https://amacentralpa.com/event/marketing-meet-up-at-fox-den/
LOCATION:Fox Den Indoor Golf\, 515 Harrisburg Ave\, Lancaster\, PA\, 17603\, United States
CATEGORIES:Marketing Meet-Ups
ATTACH;FMTTYPE=image/png:https://amacentralpa.com/wp-content/uploads/2026/03/Marketing-Meet-Up-AMA-April-2026.png
ORGANIZER;CN="American Marketing Association Central PA Chapter":MAILTO:amacentralpa@gmail.com
END:VEVENT
BEGIN:VEVENT
DTSTART;TZID=UTC:20260413T173000
DTEND;TZID=UTC:20260413T200000
DTSTAMP:20260425T152926
CREATED:20260210T023019Z
LAST-MODIFIED:20260210T023046Z
UID:100001187-1776101400-1776110400@amacentralpa.com
SUMMARY:6 Degrees: The Mentor–Mentee Networking Experience
DESCRIPTION:The Central PA Chapter of the American Marketing Association invites professionals from across industries to take part in 6 Degrees: The Mentor–Mentee Networking Experience on Monday\, April 13\, from 5:30 to 8 p.m. at the Members 1st FCU corporate headquarters\, 5000 Marketplace Way\, Enola. \nThis networking event is designed to create meaningful\, low-pressure connections between early-career professionals and experienced leaders. Through guided conversations and open discussion\, participants are encouraged to share questions\, insights and real-world experiences that support professional growth across South Central Pennsylvania. While hosted by AMA Central PA\, the event is open to professionals from any field who value learning\, leadership and connection. \nLearn more and register at Eventbrite. \nWho should attend\nMentees \n\nEarly-career professionals\nStudents\, recent graduates and career changers\nIndividuals seeking guidance\, perspective or confidence as they grow\nAnyone interested in learning from experienced professionals across industries\n\nMentors \n\nMid- to senior-level professionals\nLeaders willing to share insight\, lessons learned and career advice\nProfessionals interested in giving back and building meaningful connections\nIndividuals open to mentoring beyond their own industry or role\n\nWhat to expect\n\nOpen networking and casual conversation\nStructured speed networking with multiple mentor and mentee connections\nHonest\, practical conversations about careers\, leadership and growth\nA welcoming environment designed to make networking easier and more approachable\n\nRefreshments and snacks provided \nMentors may register at no cost. Mentees may register for $5.
URL:https://amacentralpa.com/event/6-degrees-the-mentor-mentee-networking-experience-april2026/
LOCATION:Members 1st Corporate Office\, 5000 Marketplace Way\, Enola\, PA\, 17025\, United States
CATEGORIES:6 Degrees
ATTACH;FMTTYPE=image/png:https://amacentralpa.com/wp-content/uploads/2026/02/Six-Degrees-Mentor-Mentee-Launch-April-2026.png
ORGANIZER;CN="American Marketing Association Central PA Chapter":MAILTO:amacentralpa@gmail.com
END:VEVENT
BEGIN:VEVENT
DTSTART;TZID=UTC:20260514T170000
DTEND;TZID=UTC:20260514T200000
DTSTAMP:20260425T152926
CREATED:20260414T171906Z
LAST-MODIFIED:20260420T135843Z
UID:100001218-1778778000-1778788800@amacentralpa.com
SUMMARY:Industry Mixer: AMA Central PA x YCEA Spring BBQ
DESCRIPTION:oin the Central PA Chapter of the American Marketing Association for our May Industry Mixer\, a relaxed evening of networking\, conversation and great food in York. \nHeld in partnership with the York County Economic Alliance (YCEA)\, this Spring BBQ-themed event is a chance to connect with marketers\, communicators\, business professionals and community leaders from across the region. Whether you are looking to grow your network\, share ideas or simply enjoy an evening with fellow professionals\, this mixer offers a welcoming space to make meaningful connections. \nYour ticket includes access to a BBQ buffet featuring chicken\, pork and sides\, plus one drink ticket. \nReserve your ticket on Eventbrite. \nEvent Details\n\nThursday\, May 14\nTime: 5 to 8 p.m.\nLocation: Collusion Tap Works: The Side Show\, 105 S. Howard St.\, York\, PA 17401\n\nTicket Pricing\n\n$10 for AMA or YCEA members\n$20 for non-members\n\nCome out and celebrate spring with good food\, new connections and a strong mix of professionals from across Central Pennsylvania.
URL:https://amacentralpa.com/event/industry-mixer-ama-central-pa-x-ycea-spring-bbq/
LOCATION:Collusion Tap Works: The Side Show\, 105 S. Howard Street\, York\, PA\, 17401\, United States
CATEGORIES:Industry Mixer
ATTACH;FMTTYPE=image/png:https://amacentralpa.com/wp-content/uploads/2026/04/AMA-Industry-Mixer-May-2026.png
ORGANIZER;CN="American Marketing Association Central PA Chapter":MAILTO:amacentralpa@gmail.com
END:VEVENT
END:VCALENDAR